BEGIN:VCALENDAR
VERSION:2.0
PRODID:-//RAK Dental College of Dental Sciences - ECPv6.15.20//NONSGML v1.0//EN
CALSCALE:GREGORIAN
METHOD:PUBLISH
X-ORIGINAL-URL:https://rakcods.com
X-WR-CALDESC:Events for RAK Dental College of Dental Sciences
REFRESH-INTERVAL;VALUE=DURATION:PT1H
X-Robots-Tag:noindex
X-PUBLISHED-TTL:PT1H
BEGIN:VTIMEZONE
TZID:UTC
BEGIN:STANDARD
TZOFFSETFROM:+0000
TZOFFSETTO:+0000
TZNAME:UTC
DTSTART:20230101T000000
END:STANDARD
END:VTIMEZONE
BEGIN:VEVENT
DTSTART;VALUE=DATE:20241017
DTEND;VALUE=DATE:20241018
DTSTAMP:20260422T075552
CREATED:20250730T112602Z
LAST-MODIFIED:20250730T112602Z
UID:8106-1729123200-1729209599@rakcods.com
SUMMARY:World Mental Health Day
DESCRIPTION:Date: 17 October 2024\nVenue:  RAKCODS\nCoordinator: Dr. Fadia Alfateh\, RAKCODS Student Affair representative \nCaption: \nRAK College of Dental Sciences (RAKCODS) observed Mental Health Awareness Day to promote psychological well-being among dental students\, staff\, and patients. The awareness day included supportive booth and interactive discussion with the students\, staff\, and patient aimed at raising awareness about the importance of mental health in fostering the workspace environment andenhancing patient care\, given the emotional demands of clinical training and patient interaction in dentistry.
URL:https://rakcods.com/event-new/world-mental-health-day/
CATEGORIES:RAKCODS Social Events and Interactions 24-25
ATTACH;FMTTYPE=image/jpeg:https://rakcods.com/wp-content/uploads/2025/07/43-scaled.jpg
END:VEVENT
BEGIN:VEVENT
DTSTART;VALUE=DATE:20241024
DTEND;VALUE=DATE:20241025
DTSTAMP:20260422T075552
CREATED:20250730T114219Z
LAST-MODIFIED:20250901T115211Z
UID:8114-1729728000-1729814399@rakcods.com
SUMMARY:World Breast Cancer Awareness Day
DESCRIPTION:Date: 24 October 2024\nVenue:  RAKCODS\nCoordinator: Dr. Fadia Alfateh\, RAKCODS’s Student Affair representative\nCaption: \nRAK College of Dental Sciences (RAKCODS) proudly joined the global movement in observing World Breast Cancer Awareness Day\, reaffirming its commitment to health education\, early detection\, and community support. \nThe awareness day included supportive booth and interactive discussion with the students\, staff\, and patient aimed at raising awareness about breast cancer prevention\, early signs\, and the importance of regular screening. The initiative reflects RAKCODS’s dedication to promoting public health awareness and empowering students and staff to become advocates for wellness within the community.
URL:https://rakcods.com/event-new/world-breast-cancer-awareness-day/
CATEGORIES:RAKCODS Social Events and Interactions 24-25
END:VEVENT
END:VCALENDAR