BEGIN:VCALENDAR
VERSION:2.0
PRODID:-//RAK Dental College of Dental Sciences - ECPv6.15.20//NONSGML v1.0//EN
CALSCALE:GREGORIAN
METHOD:PUBLISH
X-WR-CALNAME:RAK Dental College of Dental Sciences
X-ORIGINAL-URL:https://rakcods.com
X-WR-CALDESC:Events for RAK Dental College of Dental Sciences
REFRESH-INTERVAL;VALUE=DURATION:PT1H
X-Robots-Tag:noindex
X-PUBLISHED-TTL:PT1H
BEGIN:VTIMEZONE
TZID:UTC
BEGIN:STANDARD
TZOFFSETFROM:+0000
TZOFFSETTO:+0000
TZNAME:UTC
DTSTART:20240101T000000
END:STANDARD
END:VTIMEZONE
BEGIN:VEVENT
DTSTART;VALUE=DATE:20250426
DTEND;VALUE=DATE:20250427
DTSTAMP:20260421T211209
CREATED:20250901T124804Z
LAST-MODIFIED:20250901T124804Z
UID:8240-1745625600-1745711999@rakcods.com
SUMMARY:The RAKMHSU Alumni Meeting
DESCRIPTION:Date: 26th April 2025 \nVenue:  RAKMHSU\nOrganizer: RAKMHSU Alumni meeting Committee \nCoordinator:  \n\nShadi El Bahra\nFadia Alfateh\n\nCaption: \nRAK College of Dental Sciences (RAKCODS) took part in the RAKMHSU Alumni Meeting\, a meaningful gathering that celebrated the achievements of graduates and strengthened the bond between alumni and their alma mater. \nThe event served as a platform for networking\, knowledge exchange\, and sharing career experiences\, fostering a sense of pride and belonging within the RAKMHSU community. RAKCODS remains committed to maintaining strong alumni relations and supporting lifelong professional growth and engagement.
URL:https://rakcods.com/event-new/the-rakmhsu-alumni-meeting/
CATEGORIES:RAKCODS Social Events and Interactions 24-25
END:VEVENT
END:VCALENDAR