BEGIN:VCALENDAR
VERSION:2.0
PRODID:-//RAK Dental College of Dental Sciences - ECPv6.15.20//NONSGML v1.0//EN
CALSCALE:GREGORIAN
METHOD:PUBLISH
X-WR-CALNAME:RAK Dental College of Dental Sciences
X-ORIGINAL-URL:https://rakcods.com
X-WR-CALDESC:Events for RAK Dental College of Dental Sciences
REFRESH-INTERVAL;VALUE=DURATION:PT1H
X-Robots-Tag:noindex
X-PUBLISHED-TTL:PT1H
BEGIN:VTIMEZONE
TZID:UTC
BEGIN:STANDARD
TZOFFSETFROM:+0000
TZOFFSETTO:+0000
TZNAME:UTC
DTSTART:20240101T000000
END:STANDARD
END:VTIMEZONE
BEGIN:VEVENT
DTSTART;VALUE=DATE:20250602
DTEND;VALUE=DATE:20250603
DTSTAMP:20260421T174418
CREATED:20250901T125233Z
LAST-MODIFIED:20250901T125233Z
UID:8250-1748822400-1748908799@rakcods.com
SUMMARY:The 5th year's Last Day
DESCRIPTION:Date: 2nd June 2025 \nVenue:  RAKCODS\nOrganizer: RAKCODS \nCoordinator:  \nDr. Fadia Alfateh\, RAKCODS’s Student Affair representative
URL:https://rakcods.com/event-new/the-5th-years-last-day/
CATEGORIES:RAKCODS Social Events and Interactions 24-25
END:VEVENT
END:VCALENDAR