BEGIN:VCALENDAR
VERSION:2.0
PRODID:-//RAK Dental College of Dental Sciences - ECPv6.15.20//NONSGML v1.0//EN
CALSCALE:GREGORIAN
METHOD:PUBLISH
X-ORIGINAL-URL:https://rakcods.com
X-WR-CALDESC:Events for RAK Dental College of Dental Sciences
REFRESH-INTERVAL;VALUE=DURATION:PT1H
X-Robots-Tag:noindex
X-PUBLISHED-TTL:PT1H
BEGIN:VTIMEZONE
TZID:UTC
BEGIN:STANDARD
TZOFFSETFROM:+0000
TZOFFSETTO:+0000
TZNAME:UTC
DTSTART:20230101T000000
END:STANDARD
END:VTIMEZONE
BEGIN:VEVENT
DTSTART;VALUE=DATE:20240917
DTEND;VALUE=DATE:20240918
DTSTAMP:20260422T112701
CREATED:20250730T111432Z
LAST-MODIFIED:20250730T111432Z
UID:8104-1726531200-1726617599@rakcods.com
SUMMARY:World Patient Safety Day
DESCRIPTION:Date: 17 September 2024 \nVenue:  RAKCODS \nCoordinator: Dr. Vivek Padmanabhan\, Chairperson Quality and Patient Safety \nCaption: \nRAK College of Dental Sciences (RAKCODS) proudly joined the global community in observing World Patient Safety Day\, a vital initiative dedicated to promoting safe healthcare practices and raising awareness about patient safety worldwide. \nRAKCODS emphasized the importance of patient-centered care\, risk prevention\, and the continuous improvement of safety protocols within dental practice. This observance reflects the college’s ongoing commitment to cultivating a culture of safety\, responsibility\, and excellence in healthcare delivery.
URL:https://rakcods.com/event-new/world-patient-safety-day-2/
CATEGORIES:RAKCODS Social Events and Interactions 24-25
END:VEVENT
END:VCALENDAR