BEGIN:VCALENDAR
VERSION:2.0
PRODID:-//RAK Dental College of Dental Sciences - ECPv6.15.20//NONSGML v1.0//EN
CALSCALE:GREGORIAN
METHOD:PUBLISH
X-ORIGINAL-URL:https://rakcods.com
X-WR-CALDESC:Events for RAK Dental College of Dental Sciences
REFRESH-INTERVAL;VALUE=DURATION:PT1H
X-Robots-Tag:noindex
X-PUBLISHED-TTL:PT1H
BEGIN:VTIMEZONE
TZID:UTC
BEGIN:STANDARD
TZOFFSETFROM:+0000
TZOFFSETTO:+0000
TZNAME:UTC
DTSTART:20230101T000000
END:STANDARD
END:VTIMEZONE
BEGIN:VEVENT
DTSTART;VALUE=DATE:20241128
DTEND;VALUE=DATE:20241129
DTSTAMP:20260422T060956
CREATED:20250901T120218Z
LAST-MODIFIED:20250901T120252Z
UID:8190-1732752000-1732838399@rakcods.com
SUMMARY:UAE 53th National Day Celebration
DESCRIPTION:Date:  28 November 2024. \nVenue:  RAKCODS \nOrganizer: RAKCODS \nCoordinator: Dr. Fadia Alfateh\, RAKCODS’s Student Affair representative \nCaption: \nRAK College of Dental Sciences (RAKCODS) joyfully celebrated the 53rd UAE National Day\, honoring the nation’s remarkable journey of unity\, progress\, and achievement. \nThe celebration featured cultural performances\, traditional displays\, and student-led activities that reflected the spirit of patriotism and national pride. The event brought together leadership. Faculty\, Staff\, and Students\, in a vibrant expression of appreciation for the UAE’s heritage and visionary leadership. RAKCODS remains proud to be part of a nation that champions innovation\, diversity\, and excellence in education and healthcare.
URL:https://rakcods.com/event-new/uae-53th-national-day-celebration/
CATEGORIES:RAKCODS Social Events and Interactions 24-25
END:VEVENT
END:VCALENDAR